BEGIN:VCALENDAR
VERSION:2.0
PRODID:-//My Community Diary//iCal Event//EN
CALSCALE:GREGORIAN
METHOD:PUBLISH
BEGIN:VEVENT
UID:b16c5ef8-bddf-4ec8-895e-b76b27e8b315
DTSTAMP:20260424T155640Z
DTSTART;TZID=E. Australia Standard Time:20180627T090000
DTEND;TZID=E. Australia Standard Time:20180627T120000
SUMMARY:Botanical Art Interest Group Meetings (Members only)
DESCRIPTION:Members of the&nbsp\;Botanical Art Interest Group (BAIG) meet monthly at the Mackay Regional Botanic Gardens.\n\nThe group&nbsp\;aims to discover\, study and record\, by drawing and painting plants growing in the Botanic Gardens and within our Bioregion.\n\nAn exhibition is held annually in October at the Mackay Regional Botanic Gardens' Lagoons Gallery.\n\n&nbsp\;\n
LOCATION:Mackay Regional Botanic Gardens\, 9 Lagoon Street\, West Mackay QLD 4740\, QLD\, 4740
RRULE:FREQ=MONTHLY;INTERVAL=1;BYDAY=3MO
END:VEVENT
END:VCALENDAR
