BEGIN:VCALENDAR
VERSION:2.0
PRODID:-//My Community Diary//iCal Event//EN
CALSCALE:GREGORIAN
METHOD:PUBLISH
BEGIN:VEVENT
UID:967d3c7e-589e-4d8b-abb9-52b6a6c1d229
DTSTAMP:20260424T155836Z
DTSTART;TZID=E. Australia Standard Time:20180620T193000
DTEND;TZID=E. Australia Standard Time:20180620T203000
SUMMARY:Valley Page Turners Book Club
DESCRIPTION:Looking for an opportunity to talk about books with other people with similar reading interests? If you love reading and want to make this usually solitary pursuit a social one\, join one of our book clubs or start your own and bring a whole new\naspect to your favourite pastime. New members always welcome.\n
LOCATION:Mirani Library\, Mirani Library\, 16 Victoria Street Mirani QLD 4754\, QLD\, 4754
RRULE:FREQ=MONTHLY;INTERVAL=1;BYDAY=3MO
END:VEVENT
END:VCALENDAR
