BEGIN:VCALENDAR
VERSION:2.0
PRODID:-//My Community Diary//iCal Event//EN
CALSCALE:GREGORIAN
METHOD:PUBLISH
BEGIN:VEVENT
UID:c859bf06-8402-44f9-ac22-db6464e5697c
DTSTAMP:20260424T155948Z
DTSTART;TZID=E. Australia Standard Time:20180628T180000
DTEND;TZID=E. Australia Standard Time:20180628T200000
SUMMARY:Between the Lines Book Club
DESCRIPTION:Looking for an opportunity to talk about books with other people with similar reading interests?\n\nIf you love reading and want to make this usually solitary pursuit a social one\, join one of our book clubs or start your own and bring a whole new aspect to your favourite pastime.\n\nNew members always welcome.\n
LOCATION:Gordon White Library\, 54 Phillip Street\, Mount Pleasant QLD 4740\, QLD\, 4740
RRULE:FREQ=MONTHLY;INTERVAL=1;BYDAY=3MO
END:VEVENT
END:VCALENDAR
