BEGIN:VCALENDAR
VERSION:2.0
PRODID:-//My Community Diary//iCal Event//EN
CALSCALE:GREGORIAN
METHOD:PUBLISH
BEGIN:VEVENT
UID:a739e431-24e7-46f1-8b4c-7d3f4316d8be
DTSTAMP:20260424T160625Z
DTSTART:20240502T060000Z
DTEND:20240502T230000Z
SUMMARY:Australian Celtic Festival
DESCRIPTION:Since 1992\, crowds have descended on Glen Innes in New England High Country during the Autumn to attend the Australian Celtic Festival. This celebration of Ireland and Isle of Man is a unique Celtic experience\, with the opportunity to meet with friends and to enjoy famous country hospitality. \n\nIt has an action-packed program at the Australian Standing Stones and various venues around Glen Innes with massed bands\, busking competitions\, and street parades. The event features an opening and dawn ceremony\, Celtic music and dance\, Celtic traders\, highland games\, jousting\, and a Celtic animal display.
LOCATION:\, Watsons Drive\, Glen Innes\, NSW 2370\, NSW\, 2370
RRULE:FREQ=DAILY;INTERVAL=1;UNTIL=20240506T000000Z
END:VEVENT
END:VCALENDAR
