BEGIN:VCALENDAR
VERSION:2.0
PRODID:-//My Community Diary//iCal Event//EN
CALSCALE:GREGORIAN
METHOD:PUBLISH
BEGIN:VEVENT
UID:a87dd568-818e-4429-8540-1cd3aa26bdec
DTSTAMP:20260421T224114Z
DTSTART;VALUE=DATE:20240322
DTEND;VALUE=DATE:20240323
SUMMARY:Jane's Intergency Meeting
DESCRIPTION:Register your community group\, club or association\n\nLocal not-for-profit organisations\, community and sporting groups\, clubs and associations have been invited to&nbsp\;register&nbsp\;on the My Community Directory website.\n\nThe service is free to use and is designed to assist community groups to:\n\n\n	List their services\n	Be found by more people online\n	Advertise for volunteers\n	Promote upcoming events.\n	&nbsp\;\n\n\nWhy should you register?\n\n\n	Make sure that people can find you online\n	Enable the community to connect to local services\n	Increase access to information about your club or group\n	Increase your searchability and online engagement\n	Control your information and listing.\n\n\nOnce you are connected with your Organisation you will have the ability to edit the listing and keep it up to date in the future.&nbsp\;\n\nPlease see our HOW TO guides below.\n\n\n	HOW TO Edit Your Listing\n	HOW TO Add New Team Members to Your Listing\n	HOW TO Remove Team Members From Your Listing\n	HOW TO Add a New Location\n	HOW TO Create a Diary Event for Your Location\n\n\nIf you have any questions or need a hand with anything else\, please feel free to contact our friendly Support Team on 1300 762 515\n
LOCATION:MidCoast Council\, Biripi Way\, Taree South NSW 2430\, NSW\, 2430
RRULE:FREQ=DAILY;INTERVAL=1
END:VEVENT
END:VCALENDAR
