BEGIN:VCALENDAR
VERSION:2.0
PRODID:-//My Community Diary//iCal Event//EN
CALSCALE:GREGORIAN
METHOD:PUBLISH
BEGIN:VEVENT
UID:75446a44-0ba2-49da-8635-2112b611261a
DTSTAMP:20260424T164511Z
DTSTART:20240816T090000Z
DTEND:20240816T200000Z
SUMMARY:Tullamore Agricultural Show
DESCRIPTION:The annual Tullamore Agricultural Show offers all the pavilion exhibits including ring events\, sideshow alley\, horse and show jumping events\, livestock judging\, crop competition\, speed shearing competition and poultry.  The Championship Dog Show is always a popular event. A truly great Agricultural show and one for the social calendar.
LOCATION:\, Cornet Street\, Tullamore\, NSW 2874\, NSW\, 2874
RRULE:FREQ=DAILY;INTERVAL=1;UNTIL=20240818T000000Z
END:VEVENT
END:VCALENDAR
