BEGIN:VCALENDAR
VERSION:2.0
PRODID:-//My Community Diary//iCal Event//EN
CALSCALE:GREGORIAN
METHOD:PUBLISH
BEGIN:VEVENT
UID:33daa013-4a35-4a00-8568-988b0c206127
DTSTAMP:20260421T222216Z
DTSTART;TZID=W. Australia Standard Time:20240311T130000
DTEND;TZID=W. Australia Standard Time:20240311T140000
SUMMARY:Ballroom Dancing Exercise Class
DESCRIPTION:Perth Ballroom Dance Classes\n\nThe Perth Ballroom Dance Classes offered by Ballroom Fit are a joy for our students and coaches.\n\nWitnessing the spark of enthusiasm in students as they connect with the art form brings immeasurable joy\, for our coaches and family members. It’s a chance to pass on the love for dance and keep the tradition alive. Guiding individuals through the learning process and witnessing their growth is incredibly gratifying. From nervous beginners to confident dancers\, being part of their transformative journey is an honour.\n\nDance has the power to boost self-esteem. Ballroom Fit coaches instil confidence in students\, not just in their dance abilities but also in their overall self-perception. Seeing them carry themselves with poise is truly rewarding. Dance classes foster a sense of community. It’s heartening to see students forming connections\, supporting each other\, and sharing the joy of dance. Building this dance family is a unique and cherished aspect of Ballroom Fit.\n\nAs a dance school offering Perth Ballroom Dance Classes we are committed to making dance inclusive\, our classes provide a platform to make this vision a reality. Adapting lessons for individuals with disabilities and creating an inclusive environment is not just a goal but a responsibility that brings great satisfaction.&nbsp\;Teaching dance is a form of artistic expression. It’s not just about the technical aspects\; it’s about conveying the emotion and story behind each dance. Helping students tap into their creative side and express themselves through movement is incredibly fulfilling.\n\nStudents love Ballroom Fit!\n\nEvery student is unique\, presenting new challenges and opportunities for growth. Staying engaged in the learning process keeps our coaches sharp and ensures that each lesson is a dynamic and enriching experience.&nbsp\;Witnessing the “aha” moments when a student masters a challenging step or routine is pure joy. Celebrating their achievements\, big or small\, fosters a sense of accomplishment for both the teacher and the student.\n\nDancing is not just a physical activity\; it positively impacts mental and emotional well-being. Knowing that we contribute to our students’ overall health and happiness is a powerful motivator. In essence\, teaching dance is a privilege that goes beyond the dance floor. It’s about connecting with people\, fostering personal growth\, and contributing to a community bound by the love of dance.\n
LOCATION:Connect Victoria Park\, 5 Mackie Street\, Victoria Park WA\, Australia\, WA\, 6100
RRULE:FREQ=WEEKLY;INTERVAL=1;BYDAY=MO
END:VEVENT
END:VCALENDAR
