BEGIN:VCALENDAR
VERSION:2.0
PRODID:-//My Community Diary//iCal Event//EN
CALSCALE:GREGORIAN
METHOD:PUBLISH
BEGIN:VEVENT
UID:986c14b1-98aa-43ad-ba83-d1cdc197038e
DTSTAMP:20260422T045944Z
DTSTART;TZID=AUS Eastern Standard Time:20180505T140000
DTEND;TZID=AUS Eastern Standard Time:20180505T160000
SUMMARY:Queer Youth Together (QYouT)
DESCRIPTION:Queer Youth Together&nbsp\;(pronounced QyouT) is a program for LGBTIQ+ young people that commenced on the 22 March 2017.&nbsp\; QyouT provides a safe place\, activities\, networking\, resources\, and just good fun.\n\nQyouT is on hold due to the ACT lockdown.&nbsp\; We will be back once the lockdown is lifted!\n\n&nbsp\;\n
LOCATION:Diversity ACT\, 8 Laidlaw Place\, Kambah ACT 2902\, ACT\, 2902
RRULE:FREQ=WEEKLY;INTERVAL=1;BYDAY=SA
END:VEVENT
END:VCALENDAR
