BEGIN:VCALENDAR
VERSION:2.0
PRODID:-//My Community Diary//iCal Event//EN
CALSCALE:GREGORIAN
METHOD:PUBLISH
BEGIN:VEVENT
UID:b416cc59-3338-4c50-8836-b756340c8f2d
DTSTAMP:20260422T015644Z
DTSTART;TZID=AUS Eastern Standard Time:20240311T100000
DTEND;TZID=AUS Eastern Standard Time:20240311T113000
SUMMARY:Twin Towns & District General Meeting
DESCRIPTION:Club meets monthly. Second Monday of each Month.&nbsp\; June 2024 will be 17th June&nbsp\;\n\n&nbsp\;\n\nOffering raffles\, benching\, trading table\, friendship\, bus trips\, begonia club\, social morning tea&nbsp\;and tea and coffee is available at meetings.\n\n&nbsp\;\n\nMonthly guest speakers available.&nbsp\; $5 entry per meeting. Membership $10 per annum\n
LOCATION:Tweed Heads Cultural and Arts Centre\, Brett Street\, Tweed Heads NSW 2485\, NSW\, 2485
RRULE:FREQ=MONTHLY;INTERVAL=1;BYDAY=3MO
END:VEVENT
END:VCALENDAR
