BEGIN:VCALENDAR
VERSION:2.0
PRODID:-//My Community Diary//iCal Event//EN
CALSCALE:GREGORIAN
METHOD:PUBLISH
BEGIN:VEVENT
UID:26e19c4a-e1d9-4bc3-8933-33bad909a388
DTSTAMP:20260424T164409Z
DTSTART:20240608T000000Z
DTEND:20240608T235959Z
SUMMARY:Smoke in Broke Barbecue Festival
DESCRIPTION:Smoke in Broke Barbecue Festival is a weekend of low and slow barbecue (including an ABA Sanctioned Barbecue and SCA  competition)\, wine\, boutique wine\, craft beer\, market stalls\, barbecue demos and products. This is the premier event to get your barbecue information and supplies. \n\nEnjoy a weekend in the picturesque Broke Wine Region. The festival will be at McNamara Park on the June Long Weekend. Come out to support local businesses and raise funds for community groups.\n\nEntry Cost\nAll tickets $30  - Tickets available for a day or the weekend! \n\nThe event raises money for community groups in the Broke NSW region\, they collaborate with their local school\, brigade\, and community association to bring the love of BBQ to our small town.  Hope y'all can join them.
LOCATION:\, 1273 Milbrodale Road\, Broke\, NSW 2330\, NSW\, 2330
RRULE:FREQ=DAILY;INTERVAL=1;UNTIL=20240610T000000Z
END:VEVENT
END:VCALENDAR
