BEGIN:VCALENDAR
VERSION:2.0
PRODID:-//My Community Diary//iCal Event//EN
CALSCALE:GREGORIAN
METHOD:PUBLISH
BEGIN:VEVENT
UID:6cba51cd-d8bd-4732-b6ff-432ed5bda598
DTSTAMP:20260424T160624Z
DTSTART:20230406T000000Z
DTEND:20230406T235959Z
SUMMARY:126th  Annual Easter Tournament
DESCRIPTION:Yarrawonga Lawn Tennis Club is pleased to be hosting the 126th Annual Easter Tennis Tournament in 2024. This event will suit all players\, from novice to open events\, including juniors\, veterans and graded sections.\n\nCome and join the fun with all the family. The team love to see families with three generations return to play. Many of the  Super Veterans were juniors when they first played in our annual tournament. \n\nFriday – singles events\, Saturday – doubles and second doubles events\, Sunday – mixed doubles and second doubles events\, Monday – finals and any unfinished matches from previous days. \n\nAge for Junior and Veteran events is determined as at 30th April\, 2022. Veterans must be over 40\, Super Veteran Doubles - over 50.\n\nLast year’s ‘A’\,’ B’\, ‘C’ & ‘D’ grade winning singles players and doubles combinations must enter into a higher grade or not contest that event.\n\n'D' grade singles\, 'D' grade doubles and 'D' grade mixed doubles are designed for novice players who do not play regular tennis.
LOCATION:\, Piper Street\, Yarrawonga\, VIC 3730\, VIC\, 3730
RRULE:FREQ=DAILY;INTERVAL=1;UNTIL=20240402T000000Z
END:VEVENT
END:VCALENDAR
