BEGIN:VCALENDAR
VERSION:2.0
PRODID:-//My Community Diary//iCal Event//EN
CALSCALE:GREGORIAN
METHOD:PUBLISH
BEGIN:VEVENT
UID:98b17c9a-bd49-41cc-82e4-dc2bb48158fb
DTSTAMP:20260424T164409Z
DTSTART:20180324T180000Z
DTEND:20180324T210000Z
SUMMARY:Learn to make cocktails!
DESCRIPTION:Learn to make a variety of cocktails\, with guidance from some of Sydney's best mixologists.\n\nMaster the classics and try the exotics. Drink as you go and have a fantastic evening out that you won't forget\, no matter how much you end up drinking!\n\n\n\nEntry Cost\nAll tickets $80 
LOCATION:\, 34 Oxford Street\, Darlinghurst\, NSW 2010\, NSW\, 2010
RRULE:FREQ=DAILY;INTERVAL=1;UNTIL=20250324T000000Z
END:VEVENT
END:VCALENDAR
