BEGIN:VCALENDAR
VERSION:2.0
PRODID:-//My Community Diary//iCal Event//EN
CALSCALE:GREGORIAN
METHOD:PUBLISH
BEGIN:VEVENT
UID:34009009-de35-40eb-84ba-3be72b3991dd
DTSTAMP:20260424T160518Z
DTSTART;TZID=E. Australia Standard Time:20180324T090000
DTEND;TZID=E. Australia Standard Time:20180324T140000
SUMMARY:New Cafe Hours
DESCRIPTION:Did you know we now have new café hours available for the public\;\n\nSunday-Friday: 8am-2pm.\n\nSaturday: 9am-4pm.\n\nPop in for the coffee and muffin special at only $5!\n
LOCATION:NewDirection Care at Bellmere\, 41 Lotus Avenue\, Bellmere QLD 4510\, QLD\, 4510
RRULE:FREQ=DAILY;INTERVAL=1
END:VEVENT
END:VCALENDAR
