BEGIN:VCALENDAR
VERSION:2.0
PRODID:-//My Community Diary//iCal Event//EN
CALSCALE:GREGORIAN
METHOD:PUBLISH
BEGIN:VEVENT
UID:3181c623-a3c1-4c13-9c40-dc3d49627483
DTSTAMP:20260422T021759Z
DTSTART;VALUE=DATE:20260830
DTEND;VALUE=DATE:20260831
SUMMARY:Makers Market at The District Docklands
DESCRIPTION:Head down to The District Makers Market to enjoy 70-100 creative\, colourful market stalls showcasing art\, craft\, jewellery\, fashion\, homewares and gifts.\n\nBring your furry friends along as The District is a pet-friendly precinct and you’ll find stalls selling doggie treats\, accessories and outfits. Grab a coffee and take a stroll through the open-air laneways and enjoy a spot of shopping.
LOCATION:\, 440 Docklands Drive\, Docklands\, VIC 3008\, VIC\, 3008
RRULE:FREQ=DAILY;INTERVAL=1;UNTIL=20260901T000000Z
END:VEVENT
END:VCALENDAR
