BEGIN:VCALENDAR
VERSION:2.0
PRODID:-//My Community Diary//iCal Event//EN
CALSCALE:GREGORIAN
METHOD:PUBLISH
BEGIN:VEVENT
UID:15f7bff3-2ab2-4793-9244-d28f99f4a7f6
DTSTAMP:20260424T160510Z
DTSTART:20241103T100000Z
DTEND:20241103T180000Z
SUMMARY:Blues and Berries Festival
DESCRIPTION:Blues and Berries is back for another tasty event.\n\nThis is their fifth year and 2024 is going to be an epic day. Join them for a day of all things Blues and Roots music and berries by the beach.\n\nThe event features street food with a berry twist\, market stalls promoting their local berry produce and farm tours to Costa Berries Farm.\n\nThe 2024 lineup will be announced early in 2024 but until then save the date!\n\nBring your chair\, picnic blanket and sunscreen for an awesome outdoor family-friendly event.\n\nPlease be respectful of others and leave your furry friend at home for this one.
LOCATION:\, Beach Street\, Woolgoolga\, NSW 2456\, NSW\, 2456
END:VEVENT
END:VCALENDAR
