BEGIN:VCALENDAR
VERSION:2.0
PRODID:-//My Community Diary//iCal Event//EN
CALSCALE:GREGORIAN
METHOD:PUBLISH
BEGIN:VEVENT
UID:600ac6fc-5a8b-47b2-8d00-cb8d9a536e43
DTSTAMP:20260424T154944Z
DTSTART;TZID=E. Australia Standard Time:20180310T104500
DTEND;TZID=E. Australia Standard Time:20180310T120000
SUMMARY:Church Service
DESCRIPTION:All are Welcome to Worship God on His holy Sabbath day&nbsp\; with&nbsp\;\n\nSong\, Prayer\, Offerings\, Childrens time\, and Hearing God's Word\n
LOCATION:Edens Landing Seventh-day Adventist Church\, 3 Castile Cr\, Edens Landing QLD 4207\, QLD\, 4207
RRULE:FREQ=WEEKLY;INTERVAL=1;BYDAY=SA
END:VEVENT
END:VCALENDAR
