BEGIN:VCALENDAR
VERSION:2.0
PRODID:-//My Community Diary//iCal Event//EN
CALSCALE:GREGORIAN
METHOD:PUBLISH
BEGIN:VEVENT
UID:c201779e-2b49-4ceb-8e6c-1e1f4d8975c9
DTSTAMP:20260424T154910Z
DTSTART;VALUE=DATE:20160813
DTEND;VALUE=DATE:20160814
SUMMARY:Works from the Collection
DESCRIPTION:Featuring Davida Allen’s Archibald Prize-winning portrait of her father-in-law\, Works from the Collection focuses on large scale works from the second half of the twentieth century held within the city’s art collection. The Collection brings together artworks and objects which demonstrate meaningful social and cultural interactions between the artist\, their environment and their cultural background as well as historical and significant objects relating to Ipswich heritage. Selected for this exhibition are works by Davida Allen\, Michael Shannon\, Sybil Curtis\, George Gittoes and more.\n
LOCATION:\, N/A\, QLD
RRULE:FREQ=DAILY;INTERVAL=1
END:VEVENT
END:VCALENDAR
