BEGIN:VCALENDAR
VERSION:2.0
PRODID:-//My Community Diary//iCal Event//EN
CALSCALE:GREGORIAN
METHOD:PUBLISH
BEGIN:VEVENT
UID:631a839d-49ca-427b-abb2-42b94e08f8c3
DTSTAMP:20260422T083631Z
DTSTART;VALUE=DATE:20260523
DTEND;VALUE=DATE:20260524
SUMMARY:Dungog Local Growers Stall
DESCRIPTION:The Local Growers Stall are on every Saturday\, bringing you fresh produce grown by local farmers\, market gardeners and backyard growers. \n\nEach week you will find different\, super-fresh vegetables\, fruit\, herbs\, cut flowers\, honey\, jams\, eggs\, and seedlings. Most of the products are fully organic or chemical-free. Bring your own shopping bags to the market to fill with fresh goods (cash only). Nearby you will find the Fosterton Farm Bakery bread van (cash only).\n\nThe Dungog Local Growers Stall supports the community and encourages local food production.
LOCATION:\, 205 Dowling Street\, Dungog\, NSW 2420\, NSW\, 2420
RRULE:FREQ=DAILY;INTERVAL=1;UNTIL=20260525T000000Z
END:VEVENT
END:VCALENDAR
