BEGIN:VCALENDAR
VERSION:2.0
PRODID:-//My Community Diary//iCal Event//EN
CALSCALE:GREGORIAN
METHOD:PUBLISH
BEGIN:VEVENT
UID:6d5e1651-e42d-48e8-b5ee-93ad693c9b25
DTSTAMP:20260424T164410Z
DTSTART:20240413T110000Z
DTEND:20240413T170000Z
SUMMARY:Pyrenees Unearthed Wine and Food Festival
DESCRIPTION:A day of sensational wine\, delicious food\, local produce and live entertainment\, the Pyrenees Unearthed Wine and Food Festival promises a brilliant day out for all ages. Held along the banks of the Avoca River\, patrons can sample a broad range of wines from over 25 Pyrenees and Grampians wineries with local beer\, cider and gin also available.\n\nFor non-drinkers\, the selection of local food and produce on offer will enable guests to sample a diverse range of Western Victoria's flavours and live music will entertain guests throughout the day.\n\nWhile the tastings on offer will showcase many sought after trophy-winning wines\, the Wine Auction held throughout the afternoon provides the opportunity to secure some rare and valuable vintages. \n\nThe Pyrenees Unearthed Festival is also a family-friendly event\, with free children's activities and return buses to the event are available from Maryborough and Ballarat.\n\nGet together with friends and family\, dust off your picnic rug\, pack a sun hat and join in for an unmissable afternoon in the Pyrenees.\n\nEntry Cost\nAdult $50  - Early release tickets – $50 + booking fee\nEarly release tickets – $60 + booking fee\nFinal release tickets – $75 + booking fee\nChildren Under 16 – Free
LOCATION:\, Dundas Street\, Avoca\, VIC 3467\, VIC\, 3467
END:VEVENT
END:VCALENDAR
