BEGIN:VCALENDAR
VERSION:2.0
PRODID:-//My Community Diary//iCal Event//EN
CALSCALE:GREGORIAN
METHOD:PUBLISH
BEGIN:VEVENT
UID:10ef0862-1efe-43f5-b068-a55cd9352c97
DTSTAMP:20260424T160517Z
DTSTART:20210215T080000Z
DTEND:20210215T170000Z
SUMMARY:Sonography - Cardiology - Biloela
DESCRIPTION:Metro North Hospital and Health Service (ICOP) at Biloela Hospital. Please confirm precise times with the service provider.
LOCATION:\, 2 Hospital Road\, Biloela\, QLD\, 4715\, QLD\, 4715
END:VEVENT
END:VCALENDAR
