BEGIN:VCALENDAR
VERSION:2.0
PRODID:-//My Community Diary//iCal Event//EN
CALSCALE:GREGORIAN
METHOD:PUBLISH
BEGIN:VEVENT
UID:a6fd3152-85d9-4528-93f8-e65820d5c4b5
DTSTAMP:20260424T161012Z
DTSTART:20240328T090000Z
DTEND:20240328T130000Z
SUMMARY:Deni Fest
DESCRIPTION:Held annually over the Easter Long weekend\, Deni Fest  encompasses all the well-loved arts and cultural activities happening in Deniliquin\, including the Rotary Easter Art Show\, the ArtOut makers market\,  APRA Championship Rodeo and Lions Club Community Market.\n\nDeni Fest encourages locals and visitors to get out and enjoy the arts and culture. It highlights why Deniliquin is such a great place to visit at Easter.
LOCATION:\, Various\, Deniliquin\, NSW 2710\, NSW\, 2710
RRULE:FREQ=DAILY;INTERVAL=1;UNTIL=20240402T000000Z
END:VEVENT
END:VCALENDAR
