BEGIN:VCALENDAR
VERSION:2.0
PRODID:-//My Community Diary//iCal Event//EN
CALSCALE:GREGORIAN
METHOD:PUBLISH
BEGIN:VEVENT
UID:dea42291-29e8-4592-b217-206eb5d09e00
DTSTAMP:20260424T154951Z
DTSTART;TZID=E. Australia Standard Time:20180208T093000
DTEND;TZID=E. Australia Standard Time:20180208T103000
SUMMARY:Pilates for everyone! Only $13
DESCRIPTION:Get strong\, fit and healthy with a group of people that are there for the same thing. A friendly and welcoming atmosphere with a view to the ocean too! Learn how to move your body the way it was intended to move\, learn without judgement\, learn while enjoying yourself too :)\n
LOCATION:Nicole Calvino Pilates & Yoga\, 2 Hythe Street\, Miami QLD 4220\, QLD\, 4220
RRULE:FREQ=WEEKLY;INTERVAL=1;BYDAY=MO,TU,WE,FR
END:VEVENT
END:VCALENDAR
