BEGIN:VCALENDAR
VERSION:2.0
PRODID:-//My Community Diary//iCal Event//EN
CALSCALE:GREGORIAN
METHOD:PUBLISH
BEGIN:VEVENT
UID:fe182d0a-327c-4f88-829e-4d98e9b6ac1f
DTSTAMP:20260423T061139Z
DTSTART:20230415T000000Z
DTEND:20230415T235959Z
SUMMARY:Mindfulness Escapes Byron Bay
DESCRIPTION:Half a day meditation and mindfulness workshop in nature.\n\nYou will learn different meditation techniques to quiet the mind and become more in control of your thoughts. The workshop includes sitting meditations and walking meditations.\n\nThey teach various mindfulness techniques that are easily applied back into your days  for a healthier\, happier and stressless life.\n\nThey practice outdoors for an enjoyable experience and to discover beautiful Byron Bay.\n\nThe workshop is catered for any level\, beginner to experienced.\n\nPlease visit the website for more information and booking.\n\n
LOCATION:\, Short Street\, Byron Bay\, NSW 2481\, NSW\, 2481
RRULE:FREQ=DAILY;INTERVAL=1;UNTIL=20250415T000000Z
END:VEVENT
END:VCALENDAR
