BEGIN:VCALENDAR
VERSION:2.0
PRODID:-//My Community Diary//iCal Event//EN
CALSCALE:GREGORIAN
METHOD:PUBLISH
BEGIN:VEVENT
UID:203cfcdd-38ef-451f-ab46-255d152ccea5
DTSTAMP:20260424T164404Z
DTSTART;TZID=W. Australia Standard Time:20180201T093000
DTEND;TZID=W. Australia Standard Time:20180201T123000
SUMMARY:MyTime 
DESCRIPTION:MyTime is a group for parents and carers of children with a disability. Its a place to unwind and connect with people who understand\n
LOCATION:Marilla House Community Centre\, Marilla Community Centre\, Rockingham Naval Club Point Peron Road Peron WA 6168\, WA\, 6168
RRULE:FREQ=WEEKLY;INTERVAL=1;BYDAY=TH
END:VEVENT
END:VCALENDAR
