BEGIN:VCALENDAR
VERSION:2.0
PRODID:-//My Community Diary//iCal Event//EN
CALSCALE:GREGORIAN
METHOD:PUBLISH
BEGIN:VEVENT
UID:df005439-8adf-4be6-9359-e747b453768b
DTSTAMP:20260424T164949Z
DTSTART;TZID=W. Australia Standard Time:20180131T093000
DTEND;TZID=W. Australia Standard Time:20180131T113000
SUMMARY:Pre-school Playgroup
DESCRIPTION:Playgroup for all preschool aged children. Large outdoor area with Cubby and slide\, sandpit and mud kitchen. Disability access and toilet/baby-changing facilities. Every Wednesday 9:30-11:30am based at Rockingham Naval Club\, Point Peron Road\, Rockingham 6168\n
LOCATION:Marilla House Community Centre\, Marilla Community Centre\, Rockingham Naval Club Point Peron Road Peron WA 6168\, WA\, 6168
RRULE:FREQ=WEEKLY;INTERVAL=1;BYDAY=MO,WE
END:VEVENT
END:VCALENDAR
