BEGIN:VCALENDAR
VERSION:2.0
PRODID:-//My Community Diary//iCal Event//EN
CALSCALE:GREGORIAN
METHOD:PUBLISH
BEGIN:VEVENT
UID:95b10fa5-0607-4e84-89d6-71e0b437ae24
DTSTAMP:20260424T155947Z
DTSTART;TZID=E. Australia Standard Time:20180131T083000
DTEND;TZID=E. Australia Standard Time:20180131T140000
SUMMARY:Speech Pathology - Mitchell
DESCRIPTION:Speech Pathologists assist both adults and children who have difficulty communicating and/or swallowing due to stroke\, brain injuries\,&nbsp\;intellectual disability\, cerebral palsy\, dementia and hearing loss\, as well as other problems that affect speech and language.\n\nSome of the conditions that a Speech pathologist help with include:&nbsp\;\n\n\n	Child Development issues\n	Intellectual disability\n	Brain injuries\n	Stroke\n	Cerebral Palsy\n	Hearing loss\n	Dementia\n	Others\n\n\nOur local Speech Pathologists diagnose and provide therapy for conditions relating to:&nbsp\;&nbsp\;\n\n\n	Speech - the oral form of communication and the production of sounds and articulation\n	Language -&nbsp\;a whole system of words and symbols – written\, spoken or expressed with gestures and body language – that is used to communicate meaning\n	Voice - the basic sound for speech and singing. People may experience changes to their voice e.g. sounding hoarse\, husky\, being too loud or too quiet\n	Fluency – This includes stuttering and cluttering&nbsp\;\n	Multimodal Communication – Communication using sign\, communication boards and other devices\n	Swallowing – swallowing food\, fluid and saliva management&nbsp\;\n	&nbsp\;\n\n\nService Delivery Options:&nbsp\;\n\n\n	Face-to-face&nbsp\;\n	Telehealth&nbsp\;\n	Aged Care facility visits\n\n\nPlease confirm precise times with the service provider.&nbsp\;\n
LOCATION:Mitchell School & CWA Hall \, Mitchell QLD\, Australia\, QLD\, 4465
RRULE:FREQ=WEEKLY;INTERVAL=1;BYDAY=WE
END:VEVENT
END:VCALENDAR
