BEGIN:VCALENDAR
VERSION:2.0
PRODID:-//My Community Diary//iCal Event//EN
CALSCALE:GREGORIAN
METHOD:PUBLISH
BEGIN:VEVENT
UID:00b37dec-35f6-4c13-b22f-091a2ff22835
DTSTAMP:20260424T154910Z
DTSTART;TZID=E. Australia Standard Time:20180214T083000
DTEND;TZID=E. Australia Standard Time:20180214T140000
SUMMARY:Exercise Physiology - Mitchell
DESCRIPTION:Vital Health - Roma at&nbsp\;Mitchell Spa. Please confirm precise times with the service provider. To book an appointment please call 07 4622 4322.\n
LOCATION:Mitchell Hall\, 2 Cambridge Street\, Mitchell QLD 4465\, QLD\, 4465
RRULE:FREQ=WEEKLY;INTERVAL=1;BYDAY=WE
END:VEVENT
END:VCALENDAR
