BEGIN:VCALENDAR
VERSION:2.0
PRODID:-//My Community Diary//iCal Event//EN
CALSCALE:GREGORIAN
METHOD:PUBLISH
BEGIN:VEVENT
UID:44aff8f1-5d06-4e1c-8c2d-62107ef040ea
DTSTAMP:20260421T100609Z
DTSTART;VALUE=DATE:20240118
DTEND;VALUE=DATE:20240119
SUMMARY:Riverina Producers' Market
DESCRIPTION:Riverina Producers' Market is a market run by producers to connect with those that love good food. \n\nVarious stalls sell fresh and prepared foods\, food-related products and complementary homewares.\n\nProducts include meat\, fruit\, vegetables\, cheeses\, bread\, honey\, jams\, berries\, pickles\, sweet treats\, chocolate and more\, directly from the producer to you.
LOCATION:\, Bourke Street\, Wagga Wagga\, NSW 2650\, NSW\, 2650
RRULE:FREQ=DAILY;INTERVAL=1;UNTIL=20240120T000000Z
END:VEVENT
END:VCALENDAR
