BEGIN:VCALENDAR
VERSION:2.0
PRODID:-//My Community Diary//iCal Event//EN
CALSCALE:GREGORIAN
METHOD:PUBLISH
BEGIN:VEVENT
UID:01149e75-7cb8-4db3-8faf-fc1c2ca34540
DTSTAMP:20260422T015556Z
DTSTART;TZID=E. Australia Standard Time:20231217T083000
DTEND;TZID=E. Australia Standard Time:20231217T103000
SUMMARY:Sunday Family Worship Service
DESCRIPTION:Join us every Sunday at 8.30am for our Family Worship Service\n\nKids' groups run during the service in school term time\n
LOCATION:Grace Christian Church Buderim\, 2-4 Toral Drive Buderim QLD 4556\, QLD\, 4556
RRULE:FREQ=WEEKLY;INTERVAL=1;BYDAY=SU
END:VEVENT
END:VCALENDAR
