BEGIN:VCALENDAR
VERSION:2.0
PRODID:-//My Community Diary//iCal Event//EN
CALSCALE:GREGORIAN
METHOD:PUBLISH
BEGIN:VEVENT
UID:71d426fa-c5ef-435c-a1a9-57c54367622c
DTSTAMP:20260424T160510Z
DTSTART:20180106T060000Z
DTEND:20180106T113000Z
SUMMARY:Bundall Farmers Market
DESCRIPTION:Farmers Market
LOCATION:Bundall Farmers Market\, 135 Bundall Road\, Surfers Paradise\, Queensland\, Australia\, QLD
RRULE:FREQ=WEEKLY;INTERVAL=1;BYDAY=SA
END:VEVENT
END:VCALENDAR
