BEGIN:VCALENDAR
VERSION:2.0
PRODID:-//My Community Diary//iCal Event//EN
CALSCALE:GREGORIAN
METHOD:PUBLISH
BEGIN:VEVENT
UID:6a137496-6a27-4676-a5a5-825182be5cd0
DTSTAMP:20260424T154835Z
DTSTART;TZID=E. Australia Standard Time:20180115T083000
DTEND;TZID=E. Australia Standard Time:20180115T170000
SUMMARY:Exercise Physiology - CWAATSICH
DESCRIPTION:Vital Health's Exercise Physiologist providing services at Charleville CWAATSICH.\n\nTo book an appointment please call 07 4654 3277.\n
LOCATION:Charleville And Western Areas Aboriginal And Torres Strait Islanders Community Health - Charleville\, 94 Edward Street\, Charleville QLD 4407\, QLD\, 4470
RRULE:FREQ=WEEKLY;INTERVAL=1;BYDAY=MO,WE
END:VEVENT
END:VCALENDAR
