BEGIN:VCALENDAR
VERSION:2.0
PRODID:-//My Community Diary//iCal Event//EN
CALSCALE:GREGORIAN
METHOD:PUBLISH
BEGIN:VEVENT
UID:05ad091a-b3b1-4a25-ba08-b79bf4f50848
DTSTAMP:20260424T155901Z
DTSTART;TZID=E. Australia Standard Time:20180110T083000
DTEND;TZID=E. Australia Standard Time:20180110T140000
SUMMARY:Physiotherapy - Mitchell
DESCRIPTION:Vital Health Physiotherapists visit Mitchell weekly to provide a local and experienced\,&nbsp\;multi-facetted approach to chronic disease\, pain management\, women's health\, rehabilitation and injury prevention.&nbsp\;\n\nOur local physiotherapists can help with the following:&nbsp\;&nbsp\;&nbsp\;\n\n\n	Chronic Disease\n	Chronic Pain\n	Women's Health (Post and Pre-natal therapy)\n	Diabetes\n	Work Injuries\n	Sports Injuries\n	Disability support&nbsp\;(we are an NDIS registered provider)\n\n
LOCATION:Charleville And Western Areas Aboriginal And Torres Strait Islanders Community Health (CWAATSICH) - Mitchell\, 46 Cambridge Street\, Mitchell QLD 4465\, QLD\, 4465
RRULE:FREQ=WEEKLY;INTERVAL=1;BYDAY=WE
END:VEVENT
END:VCALENDAR
