BEGIN:VCALENDAR
VERSION:2.0
PRODID:-//My Community Diary//iCal Event//EN
CALSCALE:GREGORIAN
METHOD:PUBLISH
BEGIN:VEVENT
UID:6cb644ce-ce65-4952-8f1f-f232c3664279
DTSTAMP:20260422T002811Z
DTSTART;TZID=AUS Eastern Standard Time:20240127T093000
DTEND;TZID=AUS Eastern Standard Time:20240127T110000
SUMMARY:Newcastle Group meeting\, Knitters' Guild of NSW
DESCRIPTION:The Newcastle Group of the Knitters' Guild of NSW meet on the fourth Saturday morning (and the second Wednesday morning) of each month from 9.30am to 11\, to knit\, crochet\, and to share information about the craft. Visitors are welcome to come along free of charge to find out more.\n\nWe meet at Hamilton North Bowling Club\, which has parking available and disabled access.\n
LOCATION:Hamilton North Bowling Club\, 31 Boreas St\, Broadmeadow NSW 2292\, NSW
RRULE:FREQ=MONTHLY;INTERVAL=1;BYDAY=3MO
END:VEVENT
END:VCALENDAR
