BEGIN:VCALENDAR
VERSION:2.0
PRODID:-//My Community Diary//iCal Event//EN
CALSCALE:GREGORIAN
METHOD:PUBLISH
BEGIN:VEVENT
UID:c342fa12-ec22-433d-914f-3d330119c7ac
DTSTAMP:20260424T160645Z
DTSTART:20210406T080000Z
DTEND:20210406T170000Z
SUMMARY:Sonography - Cardiology - Blackwater
DESCRIPTION:Metro North Hospital and Health Service (ICOP) at Blackwater Multipurpose Health Service. Please confirm precise times with the service provider.
LOCATION:\, Mackenzie Street\, Blackwater\, QLD\, 4717\, QLD\, 4717
END:VEVENT
END:VCALENDAR
