BEGIN:VCALENDAR
VERSION:2.0
PRODID:-//My Community Diary//iCal Event//EN
CALSCALE:GREGORIAN
METHOD:PUBLISH
BEGIN:VEVENT
UID:3bf6ee7e-65e6-4585-8636-f0b464dbff7f
DTSTAMP:20260424T160513Z
DTSTART:20210407T080000Z
DTEND:20210407T170000Z
SUMMARY:Sonography - Cardiology - Emerald
DESCRIPTION:Metro North Hospital and Health Service (ICOP) at Emerald Hospital. Please confirm precise times with the service provider.
LOCATION:\, 69 Hospital Road\, Emerald\, QLD\, 4720\, QLD\, 4720
END:VEVENT
END:VCALENDAR
