BEGIN:VCALENDAR
VERSION:2.0
PRODID:-//My Community Diary//iCal Event//EN
CALSCALE:GREGORIAN
METHOD:PUBLISH
BEGIN:VEVENT
UID:f6eace23-165e-42c0-983d-a5eede9792b7
DTSTAMP:20260422T071811Z
DTSTART:20171129T120000Z
DTEND:20171129T133000Z
SUMMARY:Weekly lunch
DESCRIPTION:Free healthy meals and opportunities for social interaction to members of our community who may be disadvantaged by low income\, social isolation or mental ill-health. Lunch is served from 12:00 - 1:00 pm every Wednesday.\n
LOCATION:Pearls Place Community Inc\, C/- Masonic Centre\, Toallo Street\, Pambula NSW 2549\, NSW
RRULE:FREQ=WEEKLY;INTERVAL=1;BYDAY=WE
END:VEVENT
END:VCALENDAR
