BEGIN:VCALENDAR
VERSION:2.0
PRODID:-//My Community Diary//iCal Event//EN
CALSCALE:GREGORIAN
METHOD:PUBLISH
BEGIN:VEVENT
UID:aebcce23-e4af-4fdd-8d63-36a6d724ef8c
DTSTAMP:20260422T033631Z
DTSTART;TZID=AUS Eastern Standard Time:20231123T100000
DTEND;TZID=AUS Eastern Standard Time:20231123T120000
SUMMARY:Print Making 
DESCRIPTION:Join us for a Print Making taster with creative Maree Saville\n\nPrintmaking is the process of creating artworks by printing\, normally on paper\, but also on fabric\, wood\, metal\, and other surfaces.\n\nThis two part workshop will see you create your own unique piece of print making art\n\nThursday 23rd 10am - 12pm\nTHursday 30th 10am - 12pm\n\nMakerspace\n4 Albert Circuit Port Macquarie\n
LOCATION:Mid North Coast Community College - Port Macquarie\, 4 Albert Circuit\, Port Macquarie NSW 2444\, NSW\, 2444
RRULE:FREQ=WEEKLY;INTERVAL=2;BYDAY=TH
END:VEVENT
END:VCALENDAR
