BEGIN:VCALENDAR
VERSION:2.0
PRODID:-//My Community Diary//iCal Event//EN
CALSCALE:GREGORIAN
METHOD:PUBLISH
BEGIN:VEVENT
UID:1cbd2b9d-4f4a-4872-9b85-313fb923a2df
DTSTAMP:20260424T164434Z
DTSTART:20230813T080000Z
DTEND:20230813T120000Z
SUMMARY:Casino Golf Club Markets
DESCRIPTION:Come along and find a treasure at the Casino Golf Club market day. There will be crafts\, jewellery\, bags\, clothing\, plants\, food and lots more. Enjoy a scrumptious breakfast in the Club House to start your day right. \n\nThe markets are a not for profit organisation benefiting the community and raising funds for local charities.\n\nEFTPOS is available in the Club House.
LOCATION:\, West Street\, Casino\, NSW 2470\, NSW\, 2470
RRULE:FREQ=DAILY;INTERVAL=1;UNTIL=20240212T000000Z
END:VEVENT
END:VCALENDAR
