BEGIN:VCALENDAR
VERSION:2.0
PRODID:-//My Community Diary//iCal Event//EN
CALSCALE:GREGORIAN
METHOD:PUBLISH
BEGIN:VEVENT
UID:b8f38be9-c380-49cf-8114-1c3cc45545f8
DTSTAMP:20260422T002726Z
DTSTART;VALUE=DATE:20261227
DTEND;VALUE=DATE:20261228
SUMMARY:Berry Village Market
DESCRIPTION:Berry Village Market is held on the fourth Sunday of every month at the Berry Bowling Club with over 80 boutique stalls.\n\nVisitors can also enjoy great coffee\, delicious donuts\, pastries and amazing market foods. With two outdoor live music areas and indoor and outdoor seating are available on the global green. Visitors can enjoy the music while they relax and enjoy the market atmosphere. Visitors are encouraged to bring their fur babies and a picnic blanket to enjoy the market vibe.\n\nThe market also provides full club facilities with an ATM machine\, air conditioning\, and Chinese cuisine.  This market  also has plants\, garden sculptures\, quality Bric a brac\, re-purposed books\, quality handmade items and lot's more! \n\nThe stalls offer products ranging from plants\, Quality collectables\, re-purposed books for a good read\, plus fresh organica locally grown produce  and health products\, fresh flowers\, honey\, and mead\, jams to gourmet food\, and everything in between. Visitors can also find something for their fur babies\, including a variety of treats and toys.  This beautiful market space is a destination market located in Berry NSW part of the Shoalhaven only a two hour drive from Sydney.\n\nIn conclusion\, Berry Village Market is a great place to spend a Sunday with friends or family. Visitors can enjoy a variety of food\, drinks\, and entertainment while exploring the many stalls.
LOCATION:\, 140 Princes Highway\, Berry\, NSW 2535\, NSW\, 2535
RRULE:FREQ=DAILY;INTERVAL=1;UNTIL=20261229T000000Z
END:VEVENT
END:VCALENDAR
