BEGIN:VCALENDAR
VERSION:2.0
PRODID:-//My Community Diary//iCal Event//EN
CALSCALE:GREGORIAN
METHOD:PUBLISH
BEGIN:VEVENT
UID:f36ff376-f2f5-4465-8c1a-063a7416362b
DTSTAMP:20260424T155900Z
DTSTART:20240216T000000Z
DTEND:20240216T235959Z
SUMMARY:Adelaide Fringe
DESCRIPTION:Adelaide Fringe is Australia's biggest arts festival! \n\nFor 31 magical summer days and nights\, Fringe transforms Adelaide and greater South Australia\, with eclectic and vibrant events spanning cabaret\, theatre\, comedy\, circus\, music\, visual arts\, workshops and so much more.\n\nFringe brings together 6\,000+ independent artists in 300+ venues across SA\, collectively putting on more than 1\,200 shows. We’ve had every type of experience you can think of. Free outdoor events? Check. State of the art VR experiences? Check. Sensory-reduced\, completely accessible\, award-winning children's theatre? Check. One-person show in an office cubicle? Yep\, we’ve had that too. \n\nNo matter what it is you're looking for\, we probably have it ready and waiting for you. Head to our website to find out more: adelaidefringe.com.au
LOCATION:\, Various\, Adelaide\, SA 5000\, SA\, 5000
RRULE:FREQ=DAILY;INTERVAL=1;UNTIL=20240318T000000Z
END:VEVENT
END:VCALENDAR
