BEGIN:VCALENDAR
VERSION:2.0
PRODID:-//My Community Diary//iCal Event//EN
CALSCALE:GREGORIAN
METHOD:PUBLISH
BEGIN:VEVENT
UID:7554925e-23d3-45f8-bbd6-c0aff752fdfc
DTSTAMP:20260421T224126Z
DTSTART;TZID=AUS Eastern Standard Time:20231108T100000
DTEND;TZID=AUS Eastern Standard Time:20231108T120000
SUMMARY:Storyland - A morning of collage
DESCRIPTION:Join us for a morning of collage - cut and paste - to create unique artworks. Derived from the French to mean “to glue” or “to stick together” participants will be inspired by art movements and styles from folk art\, decoupage\, Surrealism\, DADA and Photomontage to create their own unique works.\n\nWeekly drop-in style sessions in the Gallery Make-it Space\, tutored by designer and printmaker Ali Haigh\, to help you get started.\n\nEverything you need to create is supplied\, scissors\, glue\, and inspirational material to build your artwork.\n\n\n\nAbout the Facilitator:\nAli Haigh is a contemporary Australian printmaker and designer who draws inspiration from the patterns and shapes found in nature and her surroundings. Her creative style has been described as "playful-joyful\," and she refers to each design as a "moment." She finds these moments by observing the patterns in sand or the water-worn stones on the beach near her coastal home in NSW.\n\nThe unique shape and patterns of natural specimens like the boxfish and banksia are of endless fascination for Ali\, who firstly draws them from life and then re-imagines them through inversion\, stylisation\, simplification and repetition.\n\nAli prints her designs on everyday objects such as the humble teatowel to bring a touch of magic to the mundane.\n\nParticipation is FREE thanks to funding from the NSW Government.\n\nRegister for a session or just drop in on the day and sign into the workshop!\n\nStoryland: A Morning of Collage\nWednesdays 10am - 12pm\n8th\, 15th\, 22nd\, 29th November\, 2023\nManning Regional Art Gallery\n\nDrop in Style Session Weekly in November! We look forward to seeing you!\n
LOCATION:Manning Regional Art Gallery\, 12 Macquarie Street\, Taree NSW 2430\, NSW\, 2430
RRULE:FREQ=WEEKLY;INTERVAL=4;BYDAY=WE
END:VEVENT
END:VCALENDAR
