BEGIN:VCALENDAR
VERSION:2.0
PRODID:-//My Community Diary//iCal Event//EN
CALSCALE:GREGORIAN
METHOD:PUBLISH
BEGIN:VEVENT
UID:0fd7fcbc-4bc5-452b-9de8-b228dbd15bf0
DTSTAMP:20260424T164403Z
DTSTART:20240803T093000Z
DTEND:20240803T160000Z
SUMMARY:Horses Birthday Kids Festival
DESCRIPTION:Hip\, hip\, hooray! It's the Horses Birthday.\n\nYou're invited to join two huge days of family fun at Glenworth Valley's Horses Birthday Festival.\n\nThe Horses Birthday Festival is the Central Coast's biggest birthday party with loads of activities and entertainment to delight the whole family including:\n\nLead pony rides\, Mini-horse shows with YouTube sensations Crunch and Lippy\, Special birthday cake for horses\, Petting farm\, Jumping castle\, Laser skirmish\, Magic shows\, Reptile shows\, Blacksmith and Farrier demonstrations\, Fascinating horse talks\, Barrel Racing plus loads more to be announced!\n\nThe grown ups will love the variety of quality food vendors\, beer and wine tastings on the lawn\, market stalls to browse and live music all-day.\n\nThe Horses Birthday Festival has received rave reviews from parents and kids alike\, so don't miss out on all the fun!\n\nGlenworth Valley is easily accessible 20 minutes from Hornsby and 15 minutes from Gosford\, just off the M1.\n\nLimited early bird  tickets available now at the website.
LOCATION:\, Cooks Road\, Glenworth Valley\, NSW 2250\, NSW\, 2250
RRULE:FREQ=DAILY;INTERVAL=1;UNTIL=20240805T000000Z
END:VEVENT
END:VCALENDAR
