BEGIN:VCALENDAR
VERSION:2.0
PRODID:-//My Community Diary//iCal Event//EN
CALSCALE:GREGORIAN
METHOD:PUBLISH
BEGIN:VEVENT
UID:c5c43cef-3167-44e2-be70-a5a5528f4a40
DTSTAMP:20260424T160629Z
DTSTART:20240303T103000Z
DTEND:20240303T150000Z
SUMMARY:All British Day 2023
DESCRIPTION:The event is a picnic day in the Adelaide Hills with hundreds of British vehicles from 1900 to the present day\, including cars\, motorbikes\, commercials\, farming and stationery engines\, plus displays and entertainment for all ages. \n\nHeld in the beautiful Adelaide Hills at Echunga Oval\, after a refreshing drive through the Hills\, our Trade stands and local food bring a fete atmosphere to Echunga. \n\nSpectators can enjoy free parking in adjacent fields. The car display will be ready for public entry at 10.30 am. They encourage youngsters to attend and have plenty for them to see and do - including free racing simulator\, punch and Judy show and vehicle engine start-ups.\n \nThey donate part proceeds to charities and community groups\, so come along and support these groups and a great event. \n\nFor further information\, check out their Facebook page or website.
LOCATION:\, Echunga Rd\, Echunga\, SA 5153\, SA\, 5153
END:VEVENT
END:VCALENDAR
