BEGIN:VCALENDAR
VERSION:2.0
PRODID:-//My Community Diary//iCal Event//EN
CALSCALE:GREGORIAN
METHOD:PUBLISH
BEGIN:VEVENT
UID:26dfd559-5741-4343-a2b4-ede69b7f2f24
DTSTAMP:20260424T160522Z
DTSTART:20240908T070000Z
DTEND:20240908T130000Z
SUMMARY:Kangaroo Island Marathon Running Festival
DESCRIPTION:The Kangaroo Island Oats Running Festival was established in 2015 and has welcomed runners representing 23 countries and every state in Australia. In 2021 the event was awarded a bronze medal at the South Australian Tourism Awards. \n\nThe course route carves its way through the heart of a shutdown Flinders Chase National Park located in the remote south-western corner of the island. \n\nRunners will be inspired by post-bushfire regenerating flora and fauna\, undulating and deviating roads\, an exposed coastal section with clifftop views to the powerful Southern Ocean and a boardwalk leading to the iconic Remarkable Rocks.\n\nEntry Cost\nAdult $149  - Early bird price expires 31 December\, 2023.
LOCATION:\, 422 Cape Du Couedic Road\, Flinders Chase\, SA 5223\, SA\, 5223
END:VEVENT
END:VCALENDAR
