BEGIN:VCALENDAR
VERSION:2.0
PRODID:-//My Community Diary//iCal Event//EN
CALSCALE:GREGORIAN
METHOD:PUBLISH
BEGIN:VEVENT
UID:16e75460-7ce3-420a-8a4a-d7287bdefd2e
DTSTAMP:20260422T021002Z
DTSTART;VALUE=DATE:20260912
DTEND;VALUE=DATE:20260913
SUMMARY:Grazing Down the Lachlan
DESCRIPTION:Grazing Down the Lachlan will make a return to Forbes.\n\nThis multi-award winning foodie adventure is set alongside the picturesque Lachlan River and celebrates produce native to the Central West NSW region\, prepared by local restaurateurs and caterers.\n\n ‘Grazers’ are free to wander along the designated corridor of the nine-mile reserve between six stations offering delicious food with a matched beverage.\n\nWhat makes this dining experience truly unique is the underlying commitment to delivering a no-waste\, environmentally responsible event.
LOCATION:\, Greens Road\, Forbes\, NSW 2871\, NSW\, 2871
RRULE:FREQ=DAILY;INTERVAL=1;UNTIL=20260914T000000Z
END:VEVENT
END:VCALENDAR
