BEGIN:VCALENDAR
VERSION:2.0
PRODID:-//My Community Diary//iCal Event//EN
CALSCALE:GREGORIAN
METHOD:PUBLISH
BEGIN:VEVENT
UID:d4eeb424-4516-4201-9571-023e6d323320
DTSTAMP:20260424T154943Z
DTSTART:20210103T080000Z
DTEND:20210103T170000Z
SUMMARY:Exercise Physiology - Mareeba
DESCRIPTION:Ingrid Hagne T/As Diabetes and Health Solutions at Mulungu Aboriginal Corporation Medical Centre - Mareeba. Please confirm precise times with the service provider.
LOCATION:\, 162-164 Walsh Street\, Mareeba\, QLD\, 4880\, QLD\, 4880
END:VEVENT
END:VCALENDAR
