BEGIN:VCALENDAR
VERSION:2.0
PRODID:-//My Community Diary//iCal Event//EN
CALSCALE:GREGORIAN
METHOD:PUBLISH
BEGIN:VEVENT
UID:8b336c15-c81d-4eee-88e4-7894b2f8d132
DTSTAMP:20260424T160512Z
DTSTART:20210214T080000Z
DTEND:20210214T170000Z
SUMMARY:Registered Nurse - Womens Health - Moura
DESCRIPTION:True Relationships & Reproductive Health at Moura Hospital. Please confirm precise times with the service provider.
LOCATION:\, 14 Nott Street\, Moura\, QLD\, 4718\, QLD\, 4718
END:VEVENT
END:VCALENDAR
