BEGIN:VCALENDAR
VERSION:2.0
PRODID:-//My Community Diary//iCal Event//EN
CALSCALE:GREGORIAN
METHOD:PUBLISH
BEGIN:VEVENT
UID:5cacafae-af87-4e40-9fa4-af8557d3ce08
DTSTAMP:20260424T160521Z
DTSTART:20210221T080000Z
DTEND:20210221T170000Z
SUMMARY:Registered Nurse - Womens Health - Thargomindah
DESCRIPTION:True Relationships & Reproductive Health at Thargomindah Hospital. Please confirm precise times with the service provider.
LOCATION:\, Dowling Street\, Thargomindah\, QLD\, 4492\, QLD\, 4492
END:VEVENT
END:VCALENDAR
