BEGIN:VCALENDAR
VERSION:2.0
PRODID:-//My Community Diary//iCal Event//EN
CALSCALE:GREGORIAN
METHOD:PUBLISH
BEGIN:VEVENT
UID:e3b77423-640a-4591-9ecc-b6a2c2d803b9
DTSTAMP:20260424T155834Z
DTSTART;VALUE=DATE:20171020
DTEND;VALUE=DATE:20171021
SUMMARY:GAPS GROUP FNQ
DESCRIPTION:Our first GAPS Group FNQ meeting will start on 20/10/17 at KEWARRA BEACH COMMUNITY HALL. \n\nI would like to invite my GAPS clients and anyone else who is interested in finding out\, learning about and following the GAPS diet and Protocol. \nPlease join our Facebook support group \nGAPS GROUP FNQ and register for our group sessions which will be on every second Friday and possibly later on Saturdays too. \nEach session will be 2 hours and will include  :-\n1 (of 10 parts) GAPS Presentation\nPublic question time\nPrivate question time / Appointments/ Workbook\nWeekly GAPS handouts \nNews\, updates and Resource info. \nGAPS Lifestyle resources Demo\nRecipe demonstration\, share and tasting (volunteers needed)\nGroup chat to share experience\, what helps\, recipies\, ideas and to make friends with our fellow GAPSies??\n\nGAPS™ and Gut and Psychology Syndrome™ are the trademark and copyright of Dr. Natasha Campbell-McBride.  The right of Dr. Natasha Campbell-McBride to be identified as the author of this work has been asserted by her in accordance with the Copyright\, Patent and Designs Act 1988".\n\nAll GAPS product and resource lists and GAPS Products will be on show and available to buy as well as GAPS folders for those who would like to follow the GAPS Diet and Protocol .\n\nPlease join our GAPS GROUP FNQ on Facebook where you will find regular updates and information to help you on your GAPS Journey. You can also register for our GAPS GROUP FNQ meetings on the group. The cost is $25 per meeting . I look forward to meeting you??Lorna\n\n\n
LOCATION:Kewarra Beach Community Hall\, 502 Poolwood Road\, Kewarra Beach\, Queensland\, Australia\, QLD
RRULE:FREQ=WEEKLY;INTERVAL=2;BYDAY=FR
END:VEVENT
END:VCALENDAR
