BEGIN:VCALENDAR
VERSION:2.0
PRODID:-//My Community Diary//iCal Event//EN
CALSCALE:GREGORIAN
METHOD:PUBLISH
BEGIN:VEVENT
UID:da3c4ec3-d8da-4d66-a920-34db008912bd
DTSTAMP:20260424T164511Z
DTSTART:20240114T070000Z
DTEND:20240114T150000Z
SUMMARY:Two Bays Trail Run
DESCRIPTION:Great holiday vibe and excellent course between Dromana on the Port Phillip Bay side and Cape Schanck on the Bass Strait side.  \n\nThat is a 28 kilometre single crossing (56 kilometre double crossing) of the Mornington Peninsula\, and not at the skinny bit. \n\nA little hill followed by bushland\, rural and coastal views\, topped off by enthusiastic helpers and the best course marking in the trail running universe.
LOCATION:\, Corner Permien Street and Point Nepean Road\, Dromana\, VIC 3936\, VIC\, 3936
END:VEVENT
END:VCALENDAR
